BEGIN:VCALENDAR
VERSION:2.0
PRODID:-// - ECPv6.9.1//NONSGML v1.0//EN
CALSCALE:GREGORIAN
METHOD:PUBLISH
X-ORIGINAL-URL:https://scoalapracticahcc.ro
X-WR-CALDESC:Events for 
REFRESH-INTERVAL;VALUE=DURATION:PT1H
X-Robots-Tag:noindex
X-PUBLISHED-TTL:PT1H
BEGIN:VTIMEZONE
TZID:UTC
BEGIN:STANDARD
TZOFFSETFROM:+0000
TZOFFSETTO:+0000
TZNAME:UTC
DTSTART:20190101T000000
END:STANDARD
END:VTIMEZONE
BEGIN:VEVENT
DTSTART;TZID=UTC:20190911T130000
DTEND;TZID=UTC:20190912T180000
DTSTAMP:20260421T073644
CREATED:20190806T095111Z
LAST-MODIFIED:20190822T053016Z
UID:1403-1568206800-1568311200@scoalapracticahcc.ro
SUMMARY:Training de Leadership Oradea
DESCRIPTION:Ce abilitati vei dobandi la acest training? \n• Abilitatile de Lider si vezi cum poti influenta si coordona mai bine echipa spre rezultatele mult dorinte.\n• Vezi cum iti poti motiva sau inspira persoanele din echipa.\n• Vezi cum poti rezolva cat mai repede si intr-un mod inteligent conflictele aparute in echipa.\n• Vezi cum poti face schimbarile pe care ti le doresti si acestea sa fie acceptate cu usurinta de toata echipa.\n• Vezi care sunt tipologiile de lider si cum abordam fiecare persoana sau situatie in parte in functie de nivelul la care este.\n• Vezi cum te poti cunoaste mai bine si sa poti detine controlul emotiilor tale\, atat cele pozitive cat si negative.\n• Vezi cum iti poti cunoaste oamenii din echipa cat mai bine si cum poti lua deciziile cele mai corecte.\n• Vezi care sunt cele mai de succes stiluri de coordonare. \n\n		\n			\n				\n					INSCRIE-TE AICI!
URL:https://scoalapracticahcc.ro/event/training-leadership-oradea/
LOCATION:Oradea\, Oradea\, România
ORGANIZER;CN="Scoala Practica HCC":MAILTO:scoalapracticahcc.ro
END:VEVENT
END:VCALENDAR